BEGIN:VCALENDAR
VERSION:2.0
PRODID:-//Plone.org//NONSGML plone.app.event//EN
X-WR-TIMEZONE:Europe/Vienna
BEGIN:VEVENT
SUMMARY:Gender & Space //Zora Fuhrmann: Working Title
DTSTART;TZID=Europe/Vienna:20260122T161000
DTEND;TZID=Europe/Vienna:20260125T170000
DTSTAMP:20260422T042600Z
UID:0093042c7799426ab64b897c51b7a503@www.akbild.ac.at
CATEGORIES:Vorträge / Veranstaltungen
CREATED:20260108T103228Z
DESCRIPTION:Dieses Projekt untersucht in Form eines Comics die unsichtbare
  und unbezahlte Arbeit im Kunstfeld\, indem es meine eigenen Erfahrungen 
 als Kunststudentin mit theoretischen Texten von Silvia Federici verbindet
 \, inspiriert von Liv Strömquist.
LAST-MODIFIED:20260312T124644Z
URL:https://www.akbild.ac.at/de/universitaet/veranstaltungen/ausstellungen
 -vermittlung/2026-1/rundgang-2026/gender-space-zora-fuhrmann-working-title
END:VEVENT
BEGIN:VTIMEZONE
TZID:Europe/Vienna
X-LIC-LOCATION:Europe/Vienna
BEGIN:STANDARD
DTSTART:20251026T020000
TZNAME:CET
TZOFFSETFROM:+0200
TZOFFSETTO:+0100
END:STANDARD
END:VTIMEZONE
END:VCALENDAR
