BEGIN:VCALENDAR
VERSION:2.0
PRODID:-//Plone.org//NONSGML plone.app.event//EN
X-WR-TIMEZONE:Europe/Vienna
BEGIN:VEVENT
SUMMARY:Guided Tour Schillerplatz
DTSTART;TZID=Europe/Vienna:20260123T130000
DTSTAMP:20260424T120853Z
UID:e9cb08b65c574434bc833292103d3c0f@www.akbild.ac.at
CATEGORIES:Führungen,Studieninformationen
CREATED:20251216T095328Z
DESCRIPTION:Einführende Tour durch das Akademiegebäude am Schillerplatz 
 für studieninteressierte Personen.
LAST-MODIFIED:20260312T124639Z
URL:https://www.akbild.ac.at/de/universitaet/veranstaltungen/ausstellungen
 -vermittlung/2026-1/rundgang-2026/guided-tour-schillerplatz-2
END:VEVENT
BEGIN:VTIMEZONE
TZID:Europe/Vienna
X-LIC-LOCATION:Europe/Vienna
BEGIN:STANDARD
DTSTART:20251026T020000
TZNAME:CET
TZOFFSETFROM:+0200
TZOFFSETTO:+0100
END:STANDARD
END:VTIMEZONE
END:VCALENDAR
