BEGIN:VCALENDAR
VERSION:2.0
PRODID:-//Plone.org//NONSGML plone.app.event//EN
X-WR-TIMEZONE:Europe/Vienna
BEGIN:VEVENT
SUMMARY:HALLWAYCONCERT
DTSTART;TZID=Europe/Vienna:20260122T200000
DTSTAMP:20260424T133548Z
UID:13404ccdb39240cbaf716a91854d89f0@www.akbild.ac.at
CATEGORIES:Vorträge / Veranstaltungen
CREATED:20260119T092323Z
DESCRIPTION:Ein Konzert organisiert vom Fachbereich Kunst und Bild I Grafi
 k.
LAST-MODIFIED:20260312T124648Z
URL:https://www.akbild.ac.at/de/universitaet/veranstaltungen/ausstellungen
 -vermittlung/2026-1/rundgang-2026/hallwayconcert
END:VEVENT
BEGIN:VTIMEZONE
TZID:Europe/Vienna
X-LIC-LOCATION:Europe/Vienna
BEGIN:STANDARD
DTSTART:20251026T020000
TZNAME:CET
TZOFFSETFROM:+0200
TZOFFSETTO:+0100
END:STANDARD
END:VTIMEZONE
END:VCALENDAR
