BEGIN:VCALENDAR
VERSION:2.0
PRODID:-//Plone.org//NONSGML plone.app.event//EN
X-WR-TIMEZONE:Europe/Vienna
BEGIN:VEVENT
SUMMARY:IKA Studienberatung Architektur
DTSTART;TZID=Europe/Vienna:20260123T110000
DTEND;TZID=Europe/Vienna:20260123T130000
DTSTAMP:20260424T120853Z
UID:0764defbcb814829a3bf2c07f0c2c990@www.akbild.ac.at
CATEGORIES:Studieninformationen
CREATED:20251222T124243Z
DESCRIPTION:Das Institut für Kunst und Architektur bietet Informationen 
  zu den Bachelor und Master Studiengängen.
LAST-MODIFIED:20260312T124641Z
URL:https://www.akbild.ac.at/de/universitaet/veranstaltungen/ausstellungen
 -vermittlung/2026-1/rundgang-2026/ika-studienberatung-architektur
END:VEVENT
BEGIN:VTIMEZONE
TZID:Europe/Vienna
X-LIC-LOCATION:Europe/Vienna
BEGIN:STANDARD
DTSTART:20251026T020000
TZNAME:CET
TZOFFSETFROM:+0200
TZOFFSETTO:+0100
END:STANDARD
END:VTIMEZONE
END:VCALENDAR
