BEGIN:VCALENDAR
VERSION:2.0
PRODID:-//Plone.org//NONSGML plone.app.event//EN
X-WR-TIMEZONE:Europe/Vienna
BEGIN:VEVENT
SUMMARY:Infostand International Office
DTSTART;TZID=Europe/Vienna:20260122T160000
DTEND;TZID=Europe/Vienna:20260123T160000
DTSTAMP:20260422T024920Z
UID:f04265935c0147ce8a83afd4001a2b87@www.akbild.ac.at
CATEGORIES:Studieninformationen
CREATED:20251212T122723Z
DESCRIPTION:Das International Office ist die zentrale Anlaufstelle für in
 ternationalen Austausch an der Akademie der Bildenden Künste Wien. Studie
 rende\, Lehrende und Mitarbeiter_nnen erhalten Informationen zu Studieren
 den- und Lehrendenmobilität\, Unterstützung bei der Realisierung von A
 uslandssemestern und -praktika sowie bei der Vermittlung von Auslandsstipe
 ndien. Das International Office betreut zudem Austauschstudierende und Ga
 st-Lehrenden und ist Ansprechstelle bei der Planung und Akquisition von i
 nternationalen Projekten.
LAST-MODIFIED:20260312T124637Z
URL:https://www.akbild.ac.at/de/universitaet/veranstaltungen/ausstellungen
 -vermittlung/2026-1/rundgang-2026/infostand-international-office
END:VEVENT
BEGIN:VTIMEZONE
TZID:Europe/Vienna
X-LIC-LOCATION:Europe/Vienna
BEGIN:STANDARD
DTSTART:20251026T020000
TZNAME:CET
TZOFFSETFROM:+0200
TZOFFSETTO:+0100
END:STANDARD
END:VTIMEZONE
END:VCALENDAR
