BEGIN:VCALENDAR
VERSION:2.0
PRODID:-//Plone.org//NONSGML plone.app.event//EN
X-WR-TIMEZONE:Europe/Vienna
BEGIN:VEVENT
SUMMARY:Kunst- und Kulturpädagogik – Ausstellung
DTSTART;TZID=Europe/Vienna:20260123T100000
DTEND;TZID=Europe/Vienna:20260123T200000
DTSTAMP:20260424T121752Z
UID:186d34d83dbd46cda239553ae32de66e@www.akbild.ac.at
CATEGORIES:Ausstellungen
CREATED:20260112T135636Z
DESCRIPTION:Ausstellung von Studierendenarbeiten des Fachbereichs Kunst- u
 nd Kulturpädagogik am Institut für das künstlerische Lehramt.
LAST-MODIFIED:20260312T124647Z
URL:https://www.akbild.ac.at/de/universitaet/veranstaltungen/ausstellungen
 -vermittlung/2026-1/rundgang-2026/kunst-und-kulturpaedagogik-ausstellung-1
END:VEVENT
BEGIN:VTIMEZONE
TZID:Europe/Vienna
X-LIC-LOCATION:Europe/Vienna
BEGIN:STANDARD
DTSTART:20251026T020000
TZNAME:CET
TZOFFSETFROM:+0200
TZOFFSETTO:+0100
END:STANDARD
END:VTIMEZONE
END:VCALENDAR
