BEGIN:VCALENDAR
VERSION:2.0
PRODID:-//Plone.org//NONSGML plone.app.event//EN
X-WR-TIMEZONE:Europe/Vienna
BEGIN:VEVENT
SUMMARY:Kunst und Zeit | Film: Screening mit Arbeiten von Studierenden
DTSTART;TZID=Europe/Vienna:20260122T170000
DTEND;TZID=Europe/Vienna:20260123T200000
DTSTAMP:20260424T120940Z
UID:cc274157f8704702ba2eca4f9332128a@www.akbild.ac.at
CATEGORIES:Ausstellungen
CREATED:20260120T132021Z
DESCRIPTION:Screening mit Arbeiten von Lukas Ortel\, Daria Boudanova\, Be
 rnhard Schiessl &amp\; Mafalda Rakoš\, Flurina Schneider &amp\; Laura Ett
 el\, Ali Amiri\, und Media Resistance Group
LAST-MODIFIED:20260312T124649Z
URL:https://www.akbild.ac.at/de/universitaet/veranstaltungen/ausstellungen
 -vermittlung/2026-1/rundgang-2026/kunst-und-zeit-film-screening-mit-arbeit
 en-von-studierenden
END:VEVENT
BEGIN:VTIMEZONE
TZID:Europe/Vienna
X-LIC-LOCATION:Europe/Vienna
BEGIN:STANDARD
DTSTART:20251026T020000
TZNAME:CET
TZOFFSETFROM:+0200
TZOFFSETTO:+0100
END:STANDARD
END:VTIMEZONE
END:VCALENDAR
