BEGIN:VCALENDAR
VERSION:2.0
PRODID:-//Plone.org//NONSGML plone.app.event//EN
X-WR-TIMEZONE:Europe/Vienna
BEGIN:VEVENT
SUMMARY:Meisterwerke des Tiefdrucks aus dem Kupferstichkabinett
DTSTART;TZID=Europe/Vienna:20260123T150000
DTSTAMP:20260424T135524Z
UID:a9b6452e99ce40fb8a11489b854f0799@www.akbild.ac.at
CATEGORIES:Führungen
CREATED:20251216T092755Z
DESCRIPTION:Führung des Kupferstichkabinetts  in Kooperation mit der Tie
 fdruckwerkstatt
LAST-MODIFIED:20260312T124639Z
URL:https://www.akbild.ac.at/de/universitaet/veranstaltungen/ausstellungen
 -vermittlung/2026-1/rundgang-2026/meisterwerke-des-tiefdrucks-aus-dem-kupf
 erstichkabinett
END:VEVENT
BEGIN:VTIMEZONE
TZID:Europe/Vienna
X-LIC-LOCATION:Europe/Vienna
BEGIN:STANDARD
DTSTART:20251026T020000
TZNAME:CET
TZOFFSETFROM:+0200
TZOFFSETTO:+0100
END:STANDARD
END:VTIMEZONE
END:VCALENDAR
