BEGIN:VCALENDAR
VERSION:2.0
PRODID:-//Plone.org//NONSGML plone.app.event//EN
X-WR-TIMEZONE:Europe/Vienna
BEGIN:VEVENT
SUMMARY:PARTY Klasse Zeichnen
DTSTART;TZID=Europe/Vienna:20260124T180000
DTEND;TZID=Europe/Vienna:20260124T210000
DTSTAMP:20260424T133600Z
UID:8e5069a63cbe44bdbcb62170df6c185d@www.akbild.ac.at
CATEGORIES:Vorträge / Veranstaltungen
CREATED:20260121T091521Z
DESCRIPTION:Eine Party der Klasse Zeichnung mit Auslosung der Tombola um 2
 0:30 h.
LAST-MODIFIED:20260312T124649Z
URL:https://www.akbild.ac.at/de/universitaet/veranstaltungen/ausstellungen
 -vermittlung/2026-1/rundgang-2026/party-klasse-zeichnen
END:VEVENT
BEGIN:VTIMEZONE
TZID:Europe/Vienna
X-LIC-LOCATION:Europe/Vienna
BEGIN:STANDARD
DTSTART:20251026T020000
TZNAME:CET
TZOFFSETFROM:+0200
TZOFFSETTO:+0100
END:STANDARD
END:VTIMEZONE
END:VCALENDAR
