BEGIN:VCALENDAR
VERSION:2.0
PRODID:-//Plone.org//NONSGML plone.app.event//EN
X-WR-TIMEZONE:Europe/Vienna
BEGIN:VEVENT
SUMMARY:Pizzaschnitten aus dem Brennofen
DTSTART;TZID=Europe/Vienna:20260123T170000
DTEND;TZID=Europe/Vienna:20260123T200000
DTSTAMP:20260424T103426Z
UID:5be99a38325d43f7ae3e72f9d35fbfae@www.akbild.ac.at
CATEGORIES:Vorträge / Veranstaltungen
CREATED:20260114T103506Z
DESCRIPTION:In der Metallwerkstätte des Instituts für das künstlerische
  Lehramt gibt es frisch gebackene Pizzaschnitten aus dem Brennofen. Initii
 ert von Barbara Rohner und Peter Spitaler.
LAST-MODIFIED:20260312T124648Z
URL:https://www.akbild.ac.at/de/universitaet/veranstaltungen/ausstellungen
 -vermittlung/2026-1/rundgang-2026/pizzaschnitten-aus-dem-brennofen
END:VEVENT
BEGIN:VTIMEZONE
TZID:Europe/Vienna
X-LIC-LOCATION:Europe/Vienna
BEGIN:STANDARD
DTSTART:20251026T020000
TZNAME:CET
TZOFFSETFROM:+0200
TZOFFSETTO:+0100
END:STANDARD
END:VTIMEZONE
END:VCALENDAR
