BEGIN:VCALENDAR
VERSION:2.0
PRODID:-//Plone.org//NONSGML plone.app.event//EN
X-WR-TIMEZONE:Europe/Vienna
BEGIN:VEVENT
SUMMARY:POP-UP DILEMMA
DTSTART;TZID=Europe/Vienna:20260122T170000
DTEND;TZID=Europe/Vienna:20260125T180000
DTSTAMP:20260424T090050Z
UID:16ff243f5e95476186f245e3f429125e@www.akbild.ac.at
CATEGORIES:Vorträge / Veranstaltungen
CREATED:20260105T113214Z
DESCRIPTION:Druckstation in der Klasse Bühnengestaltung - get the print o
 n your shirt!
LAST-MODIFIED:20260312T124642Z
URL:https://www.akbild.ac.at/de/universitaet/veranstaltungen/ausstellungen
 -vermittlung/2026-1/rundgang-2026/pop-up-dilemma
END:VEVENT
BEGIN:VTIMEZONE
TZID:Europe/Vienna
X-LIC-LOCATION:Europe/Vienna
BEGIN:STANDARD
DTSTART:20251026T020000
TZNAME:CET
TZOFFSETFROM:+0200
TZOFFSETTO:+0100
END:STANDARD
END:VTIMEZONE
END:VCALENDAR
