BEGIN:VCALENDAR
VERSION:2.0
PRODID:-//Plone.org//NONSGML plone.app.event//EN
X-WR-TIMEZONE:Europe/Vienna
BEGIN:VEVENT
SUMMARY:Portfolioberatung für das Bachelorstudium am IKL durch die Studie
 nvertretung (ÖH)
DTSTART;TZID=Europe/Vienna:20260123T120000
DTEND;TZID=Europe/Vienna:20260123T180000
DTSTAMP:20260424T100433Z
UID:a706f845574f44ed8a46f4204ffd45b8@www.akbild.ac.at
CATEGORIES:Studieninformationen
CREATED:20260108T153713Z
DESCRIPTION:Mitglieder der Studierendenvertretung (ÖH) des Instituts für
  das künstlerische Lehramt (IKL) geben individuelles Feedback zu künstle
 rischen / gestalterischen Portfolios im Hinblick auf die Zulassungsprüfun
 g für die Bachelorstudien des IKL
LAST-MODIFIED:20260312T124645Z
URL:https://www.akbild.ac.at/de/universitaet/veranstaltungen/ausstellungen
 -vermittlung/2026-1/rundgang-2026/portfolioberatung-fuer-das-bachelorstudi
 um-am-ikl-durch-die-studienvertretung-oeh
END:VEVENT
BEGIN:VTIMEZONE
TZID:Europe/Vienna
X-LIC-LOCATION:Europe/Vienna
BEGIN:STANDARD
DTSTART:20251026T020000
TZNAME:CET
TZOFFSETFROM:+0200
TZOFFSETTO:+0100
END:STANDARD
END:VTIMEZONE
END:VCALENDAR
