BEGIN:VCALENDAR
VERSION:2.0
PRODID:-//Plone.org//NONSGML plone.app.event//EN
X-WR-TIMEZONE:Europe/Vienna
BEGIN:VEVENT
SUMMARY:Portfolioberatung für das Bachelorstudium Kunst und Bildung
DTSTART;TZID=Europe/Vienna:20260123T120000
DTEND;TZID=Europe/Vienna:20260123T180000
DTSTAMP:20260424T100434Z
UID:62b7ab523614439cbf281b9f14b7a9ae@www.akbild.ac.at
CATEGORIES:Studieninformationen
CREATED:20260108T152150Z
DESCRIPTION:Lehrende des Instituts für das künstlerische Lehramt (IKL) g
 eben individuelles Feedback zu künstlerischen / gestalterischen Portfolio
 s im Hinblick auf die Zulassungsprüfung für das Bachelorstudium Kunst un
 d Bildung.
LAST-MODIFIED:20260312T124645Z
URL:https://www.akbild.ac.at/de/universitaet/veranstaltungen/ausstellungen
 -vermittlung/2026-1/rundgang-2026/portfolioberatung-fuer-das-bachelorstudi
 um-kunst-und-bildung
END:VEVENT
BEGIN:VTIMEZONE
TZID:Europe/Vienna
X-LIC-LOCATION:Europe/Vienna
BEGIN:STANDARD
DTSTART:20251026T020000
TZNAME:CET
TZOFFSETFROM:+0200
TZOFFSETTO:+0100
END:STANDARD
END:VTIMEZONE
END:VCALENDAR
