BEGIN:VCALENDAR
VERSION:2.0
PRODID:-//Plone.org//NONSGML plone.app.event//EN
X-WR-TIMEZONE:Europe/Vienna
BEGIN:VEVENT
SUMMARY:Schaudrucken in der Tiefdruckwerkstatt
DTSTART;TZID=Europe/Vienna:20260123T163000
DTSTAMP:20260424T121951Z
UID:6281c672b7214421a886938a698c7d14@www.akbild.ac.at
CATEGORIES:Vorträge / Veranstaltungen
CREATED:20260120T083404Z
DESCRIPTION:In Kooperation mit dem Kupferstichkabinett\, dass Sie in die W
 elt der Sammlung mit Tiefdrucken von Martin Schongauer\, Albrecht Dürer a
 ls auch Rembrandt einführt\, laden wir Sie ein\, im Anschluss an die Füh
 rungen das ergänzend\, praktisch-zeitgenössische Pendant zu diesem Arbei
 tsfeld zu erleben. Studierende der Akademie aus unterschiedlichen Fachbere
 ichen\, die selbst Kleinauflagen ihrer Arbeiten drucken\, lassen sich zu d
 iesem Anlass über die Schulter schauen.
LAST-MODIFIED:20260312T124648Z
URL:https://www.akbild.ac.at/de/universitaet/veranstaltungen/ausstellungen
 -vermittlung/2026-1/rundgang-2026/schaudrucken-in-der-tiefdruckwerkstatt
END:VEVENT
BEGIN:VTIMEZONE
TZID:Europe/Vienna
X-LIC-LOCATION:Europe/Vienna
BEGIN:STANDARD
DTSTART:20251026T020000
TZNAME:CET
TZOFFSETFROM:+0200
TZOFFSETTO:+0100
END:STANDARD
END:VTIMEZONE
END:VCALENDAR
