BEGIN:VCALENDAR
VERSION:2.0
PRODID:-//Plone.org//NONSGML plone.app.event//EN
X-WR-TIMEZONE:Europe/Vienna
BEGIN:VEVENT
SUMMARY:The Floor is Yours
DTSTART;TZID=Europe/Vienna:20260122T161000
DTEND;TZID=Europe/Vienna:20260125T180000
DTSTAMP:20260422T024920Z
UID:85ccee7818e946b4bb0636411e724e45@www.akbild.ac.at
CATEGORIES:Ausstellungen
CREATED:20260112T075920Z
DESCRIPTION:Eine gemeinsame Ausstellung der Fachbereiche Kunst und Zeit | 
 Film und Kunst und Intervention | Konzept.
LAST-MODIFIED:20260312T124647Z
URL:https://www.akbild.ac.at/de/universitaet/veranstaltungen/ausstellungen
 -vermittlung/2026-1/rundgang-2026/the-floor-is-yours
END:VEVENT
BEGIN:VTIMEZONE
TZID:Europe/Vienna
X-LIC-LOCATION:Europe/Vienna
BEGIN:STANDARD
DTSTART:20251026T020000
TZNAME:CET
TZOFFSETFROM:+0200
TZOFFSETTO:+0100
END:STANDARD
END:VTIMEZONE
END:VCALENDAR
