BEGIN:VCALENDAR
VERSION:2.0
PRODID:-//Plone.org//NONSGML plone.app.event//EN
X-WR-TIMEZONE:Europe/Vienna
BEGIN:VEVENT
SUMMARY:Werkstättenführung
DTSTART;TZID=Europe/Vienna:20260123T150000
DTEND;TZID=Europe/Vienna:20260123T160000
DTSTAMP:20260424T120941Z
UID:fbf325e30f9f4806acde2b14aca538b6@www.akbild.ac.at
CATEGORIES:Führungen,Studieninformationen
CREATED:20260109T141700Z
DESCRIPTION:Lehrende führen durch die verschiedenen Werkstätten des Inst
 ituts für das künstlerische Lehramt.
LAST-MODIFIED:20260312T124646Z
URL:https://www.akbild.ac.at/de/universitaet/veranstaltungen/ausstellungen
 -vermittlung/2026-1/rundgang-2026/werkstaettenfuehrung
END:VEVENT
BEGIN:VTIMEZONE
TZID:Europe/Vienna
X-LIC-LOCATION:Europe/Vienna
BEGIN:STANDARD
DTSTART:20251026T020000
TZNAME:CET
TZOFFSETFROM:+0200
TZOFFSETTO:+0100
END:STANDARD
END:VTIMEZONE
END:VCALENDAR
