BEGIN:VCALENDAR
VERSION:2.0
PRODID:-//Plone.org//NONSGML plone.app.event//EN
X-WR-TIMEZONE:Europe/Vienna
BEGIN:VEVENT
SUMMARY:Wir machen Platz – Ein Materialflohmarkt für Studierende
DTSTART;TZID=Europe/Vienna:20260123T130000
DTEND;TZID=Europe/Vienna:20260123T170000
DTSTAMP:20260424T133600Z
UID:24f3f1c082d14dd99183f54ed1d8c7df@www.akbild.ac.at
CATEGORIES:Vorträge / Veranstaltungen
CREATED:20260112T123609Z
DESCRIPTION:Flohmarkt mit Restmaterialien aus dem Lager.
LAST-MODIFIED:20260312T124647Z
URL:https://www.akbild.ac.at/de/universitaet/veranstaltungen/ausstellungen
 -vermittlung/2026-1/rundgang-2026/wir-machen-platz-ein-materialflohmarkt-f
 uer-studierende
END:VEVENT
BEGIN:VTIMEZONE
TZID:Europe/Vienna
X-LIC-LOCATION:Europe/Vienna
BEGIN:STANDARD
DTSTART:20251026T020000
TZNAME:CET
TZOFFSETFROM:+0200
TZOFFSETTO:+0100
END:STANDARD
END:VTIMEZONE
END:VCALENDAR
