BEGIN:VCALENDAR
VERSION:2.0
PRODID:-//Plone.org//NONSGML plone.app.event//EN
X-WR-TIMEZONE:Europe/Vienna
BEGIN:VEVENT
SUMMARY:Atelierkollektiv “Vernetzung”
DTSTART;TZID=Europe/Vienna:20260122T161000
DTEND;TZID=Europe/Vienna:20260125T180000
DTSTAMP:20260419T125043Z
UID:e5b3bdd726414e21aa04cef7fb88dd83@www.akbild.ac.at
CATEGORIES:Ausstellungen
CREATED:20260108T154414Z
DESCRIPTION:Das Atelierkollektiv des IKL (Institut für künstlerisches Le
 hramt) ist eine Gruppe von Studierenden\, die autonom einen Raum für kün
 stlerisches Arbeiten organisiert. Die Mitglieder sind in unterschiedlichen
  Bereichen tätig und drücken sich in vielfältigen Formen aus. Immer wie
 der treffen sie sich\, teilen Ideen und planen Veranstaltungen. Sehen Sie 
 unsere Werke in jenem Raum\, in dem sie entstehen. \nThema der diesjährig
 en Ausstellung des Atelierkollektivs ist „Vernetzung“ – denn beim Ru
 ndgang wird vernetzt und auch wir vernetzen täglich!
LAST-MODIFIED:20260312T124645Z
URL:https://www.akbild.ac.at/de/universitaet/veranstaltungen/ausstellungen
 -vermittlung/2026-1/rundgang-2026/atelierkollektiv-vernetzung
END:VEVENT
BEGIN:VTIMEZONE
TZID:Europe/Vienna
X-LIC-LOCATION:Europe/Vienna
BEGIN:STANDARD
DTSTART:20251026T020000
TZNAME:CET
TZOFFSETFROM:+0200
TZOFFSETTO:+0100
END:STANDARD
END:VTIMEZONE
END:VCALENDAR
