BEGIN:VCALENDAR
VERSION:2.0
PRODID:-//Plone.org//NONSGML plone.app.event//EN
X-WR-TIMEZONE:Europe/Vienna
BEGIN:VEVENT
SUMMARY:Adorno and the Media
DTSTART;VALUE=DATE:20191213
DTEND;VALUE=DATE:20191215
DTSTAMP:20260425T195543Z
UID:1b8e344640f9ec446e40ef860dc2a12d@www.akbild.ac.at
CATEGORIES:Konferenzen
CREATED:20220311T234509Z
DESCRIPTION:Internationale Konferenz veranstaltet durch die Staatliche Hoc
 hschule für Gestaltung Karlsruhe in Kooperation mit dem Zentrum für Kuns
 t und Medien\, ZKM\, der Simon Fraser University\, Vancouver und Hochschul
 e für angewandte Wissenschaften Würzburg-Schweinfurt.
LAST-MODIFIED:20240919T081146Z
URL:https://www.akbild.ac.at/de/universitaet/veranstaltungen/konferenzen/2
 019/adorno-and-the-media
END:VEVENT
END:VCALENDAR
