BEGIN:VCALENDAR
VERSION:2.0
PRODID:-//Plone.org//NONSGML plone.app.event//EN
X-WR-TIMEZONE:Europe/Vienna
BEGIN:VEVENT
SUMMARY:Academy goes global für Wissenschaftler_innen und Administration
DTSTART;TZID=Europe/Vienna:20221012T130000
DTEND;TZID=Europe/Vienna:20221012T180000
DTSTAMP:20260422T182024Z
UID:0e376522151a402989ef18f0376e9f17@www.akbild.ac.at
CATEGORIES:Konferenzen
CREATED:20220906T092606Z
DESCRIPTION:Den Start machen Veranstaltungen für Mitarbeiter_innen\, die 
 Einblicke in ausgewählten Instrumenten der Internationalisierung geben.
LAST-MODIFIED:20240919T081149Z
URL:https://www.akbild.ac.at/de/universitaet/veranstaltungen/konferenzen/2
 022/the-academy-goes-global/academy-goes-global-fuer-wissenschaftler_innen
 -und-administration
END:VEVENT
BEGIN:VTIMEZONE
TZID:Europe/Vienna
X-LIC-LOCATION:Europe/Vienna
BEGIN:DAYLIGHT
DTSTART:20220327T030000
TZNAME:CEST
TZOFFSETFROM:+0100
TZOFFSETTO:+0200
END:DAYLIGHT
END:VTIMEZONE
END:VCALENDAR
