BEGIN:VCALENDAR
VERSION:2.0
PRODID:-//Plone.org//NONSGML plone.app.event//EN
X-WR-TIMEZONE:Europe/Vienna
BEGIN:VEVENT
SUMMARY:Buckminster Fuller
DTSTART;TZID=Europe/Vienna:20070115T190000
DTSTAMP:20260419T125047Z
UID:6672eff3ba9f2284905d2167a1a44a1e@www.akbild.ac.at
CREATED:20220311T225902Z
DESCRIPTION:Joachim Krausse\n \n Professor für Designtheorie und Leiter d
 es internationalen Masterstudiengangs Integrated Design (MAID) am Fachbere
 ich Design der Hochschule Anhalt\, Dessau\,\n \n Vortrag\, 15.01.2007\, 19
 .00 h\n \n Aula\, Akademie der bildenden Künste Wien\, Schillerplatz 3\, 
 1010 Wien
LAST-MODIFIED:20240919T081129Z
URL:https://www.akbild.ac.at/de/universitaet/veranstaltungen/vortraege-eve
 nts/2007/event_1620/SubEvent
END:VEVENT
BEGIN:VTIMEZONE
TZID:Europe/Vienna
X-LIC-LOCATION:Europe/Vienna
BEGIN:STANDARD
DTSTART:20061029T020000
TZNAME:CET
TZOFFSETFROM:+0200
TZOFFSETTO:+0100
END:STANDARD
END:VTIMEZONE
END:VCALENDAR
