BEGIN:VCALENDAR
VERSION:2.0
PRODID:-//Plone.org//NONSGML plone.app.event//EN
X-WR-TIMEZONE:Europe/Vienna
BEGIN:VEVENT
SUMMARY:Liebesverhältnisse
DTSTART;TZID=Europe/Vienna:20080126T140000
DTSTAMP:20260425T154144Z
UID:a209e10813b0b416d585da9808d52237@www.akbild.ac.at
CATEGORIES:Vorträge / Veranstaltungen
CREATED:20220311T230012Z
DESCRIPTION:In den Vorträgen von Eva Illouz und Klaus Theweleit werden Fo
 rmen von Nähe und Distanz in Produktions- und Paarbeziehungen fokussiert\
 , eine Auseinandersetzung mit „Liebesweisen“ und Geschlechterverhältn
 issen in sozialen und medialen Räumen.
LAST-MODIFIED:20240919T081119Z
URL:https://www.akbild.ac.at/de/universitaet/veranstaltungen/vortraege-eve
 nts/2008/akbild_event.2008-01-07.6763685267
END:VEVENT
BEGIN:VTIMEZONE
TZID:Europe/Vienna
X-LIC-LOCATION:Europe/Vienna
BEGIN:STANDARD
DTSTART:20071028T020000
TZNAME:CET
TZOFFSETFROM:+0200
TZOFFSETTO:+0100
END:STANDARD
END:VTIMEZONE
END:VCALENDAR
