BEGIN:VCALENDAR
VERSION:2.0
PRODID:-//Plone.org//NONSGML plone.app.event//EN
X-WR-TIMEZONE:Europe/Vienna
BEGIN:VEVENT
SUMMARY:coming out 2008 | DoktorandInnen-Tagung
DTSTART;VALUE=DATE:20080418
DTEND;VALUE=DATE:20080420
DTSTAMP:20260420T144541Z
UID:7e42f2accf51f440b95c95f0f555aeb1@www.akbild.ac.at
CATEGORIES:Vorträge / Veranstaltungen
CREATED:20220311T230032Z
LAST-MODIFIED:20240919T081119Z
URL:https://www.akbild.ac.at/de/universitaet/veranstaltungen/vortraege-eve
 nts/2008/akbild_event.2008-04-01.0130501400
END:VEVENT
END:VCALENDAR
