BEGIN:VCALENDAR
VERSION:2.0
PRODID:-//Plone.org//NONSGML plone.app.event//EN
X-WR-TIMEZONE:Europe/Vienna
BEGIN:VEVENT
SUMMARY:Mark Lewis
DTSTART;TZID=Europe/Vienna:20080414T180000
DTSTAMP:20260425T211033Z
UID:aa0764d27097da90396bba816419435e@www.akbild.ac.at
CATEGORIES:Vorträge / Veranstaltungen
CREATED:20220311T230028Z
DESCRIPTION:Artist\, Professor in Research\, University of the Arts\, Lond
 on\n \n co-editor of Afterall Journal (London\, Los Angeles\, Antwerpen)\n
  \n series editor of the One Work Book series published by Afterall Books
LAST-MODIFIED:20240919T081119Z
URL:https://www.akbild.ac.at/de/universitaet/veranstaltungen/vortraege-eve
 nts/2008/akbild_event.2008-04-09.0088370965
END:VEVENT
BEGIN:VTIMEZONE
TZID:Europe/Vienna
X-LIC-LOCATION:Europe/Vienna
BEGIN:DAYLIGHT
DTSTART:20080330T030000
TZNAME:CEST
TZOFFSETFROM:+0100
TZOFFSETTO:+0200
END:DAYLIGHT
END:VTIMEZONE
END:VCALENDAR
