BEGIN:VCALENDAR
VERSION:2.0
PRODID:-//Plone.org//NONSGML plone.app.event//EN
X-WR-TIMEZONE:Europe/Vienna
BEGIN:VEVENT
SUMMARY:Ungleichzeitigkeit und Unmittelbarkeit | Eine Utopie des Sounds
DTSTART;VALUE=DATE:20080529
DTEND;VALUE=DATE:20080601
DTSTAMP:20260423T114302Z
UID:71bf4204c6f3bb09b8aaa58a8b22d3e6@www.akbild.ac.at
CATEGORIES:Vorträge / Veranstaltungen
CREATED:20220311T230121Z
DESCRIPTION:Ein Kooperationsprojekt des Instituts für Kunst- und Kulturwi
 ssenschaften und des Instituts für Bildende Kunst der Akademie der bilden
 den Künste Wien sowie des Österreichischen Filmmuseums.
LAST-MODIFIED:20240919T081122Z
URL:https://www.akbild.ac.at/de/universitaet/veranstaltungen/vortraege-eve
 nts/2008/akbild_event.2008-04-15.3317988018
END:VEVENT
END:VCALENDAR
