BEGIN:VCALENDAR
VERSION:2.0
PRODID:-//Plone.org//NONSGML plone.app.event//EN
X-WR-TIMEZONE:Europe/Vienna
BEGIN:VEVENT
SUMMARY:Einbauten Atelierhaus der Akademie der bildenden Künste Wien
DTSTART;TZID=Europe/Vienna:20080514T163000
DTSTAMP:20260424T185754Z
UID:677c0573559f968382e3543fdaa6f0bf@www.akbild.ac.at
CATEGORIES:Vorträge / Veranstaltungen
CREATED:20220311T230100Z
DESCRIPTION:Feierliche Übergabe der neu errichteten Pavillons\, eines Com
 puterlabors und eines Fotostudios
LAST-MODIFIED:20240919T081122Z
URL:https://www.akbild.ac.at/de/universitaet/veranstaltungen/vortraege-eve
 nts/2008/akbild_event.2008-04-25.1953633835
END:VEVENT
BEGIN:VTIMEZONE
TZID:Europe/Vienna
X-LIC-LOCATION:Europe/Vienna
BEGIN:DAYLIGHT
DTSTART:20080330T030000
TZNAME:CEST
TZOFFSETFROM:+0100
TZOFFSETTO:+0200
END:DAYLIGHT
END:VTIMEZONE
END:VCALENDAR
