BEGIN:VCALENDAR
VERSION:2.0
PRODID:-//Plone.org//NONSGML plone.app.event//EN
X-WR-TIMEZONE:Europe/Vienna
BEGIN:VEVENT
SUMMARY:"Das Klima ist fabelhaft..."
DTSTART;TZID=Europe/Vienna:20080508T190000
DTSTAMP:20260424T050456Z
UID:73361b7f85c2d4151200fc97bec0be9e@www.akbild.ac.at
CREATED:20220311T230052Z
DESCRIPTION:Ausstellung von Studierenden im Rahmen einer Lehrveranstaltung
  von Isa Rosenberger und Sofie Thorsen\n \n Zur Eröffnung spricht Andreas
  Spiegl\n \n Öffnungszeiten: Freitag\, 9. Mai und Samstag\, 10. Mai\, jew
 eils 15.00-21.00 h
LAST-MODIFIED:20240919T081122Z
URL:https://www.akbild.ac.at/de/universitaet/veranstaltungen/vortraege-eve
 nts/2008/akbild_event.2008-04-28.0575046526/SubEvent
END:VEVENT
BEGIN:VTIMEZONE
TZID:Europe/Vienna
X-LIC-LOCATION:Europe/Vienna
BEGIN:DAYLIGHT
DTSTART:20080330T030000
TZNAME:CEST
TZOFFSETFROM:+0100
TZOFFSETTO:+0200
END:DAYLIGHT
END:VTIMEZONE
END:VCALENDAR
