BEGIN:VCALENDAR
VERSION:2.0
PRODID:-//Plone.org//NONSGML plone.app.event//EN
X-WR-TIMEZONE:Europe/Vienna
BEGIN:VEVENT
SUMMARY:Inseln und Territorien
DTSTART;TZID=Europe/Vienna:20080517T093000
DTEND;TZID=Europe/Vienna:20080517T163000
DTSTAMP:20260424T100259Z
UID:9774567ce1797307ea6be0dd92ccb626@www.akbild.ac.at
CATEGORIES:Vorträge / Veranstaltungen
CREATED:20220311T230230Z
DESCRIPTION:Architektur-Workshops für Kinder und Jugendliche\n \n von 6 b
 is 16 Jahren\n \n \n Lehrende und Studierende der drei Architekturschulen 
 Wiens arbeiten erstmalig gemeinsam an einem Kooperationsprojekt der Archit
 ekturvermittlung. Die Ziele sind\, einerseits Kindern und Jugendlichen rä
 umliches Handeln zu vermittlen und andererseits Architektur im öffentlich
 en Raum sichtbar zu machen.
LAST-MODIFIED:20240919T081122Z
URL:https://www.akbild.ac.at/de/universitaet/veranstaltungen/vortraege-eve
 nts/2008/akbild_event.2008-05-06.5423662398
END:VEVENT
BEGIN:VTIMEZONE
TZID:Europe/Vienna
X-LIC-LOCATION:Europe/Vienna
BEGIN:DAYLIGHT
DTSTART:20080330T030000
TZNAME:CEST
TZOFFSETFROM:+0100
TZOFFSETTO:+0200
END:DAYLIGHT
END:VTIMEZONE
END:VCALENDAR
