BEGIN:VCALENDAR
VERSION:2.0
PRODID:-//Plone.org//NONSGML plone.app.event//EN
X-WR-TIMEZONE:Europe/Vienna
BEGIN:VEVENT
SUMMARY:Outdoorkino at Kurzbauer
DTSTART;TZID=Europe/Vienna:20080611T210000
DTSTAMP:20260424T160147Z
UID:377af7f97f7802fac1d8c17066f82e2b@www.akbild.ac.at
CATEGORIES:Vorträge / Veranstaltungen
CREATED:20220311T230055Z
DESCRIPTION:REPO MAN\, 1984\n \n Regie: Alex Cox\n \n Eine Veranstaltung d
 er Objektbildhauerei\n \n jeden Mittwoch  vom 14.5. – 18.6. jeweils um 2
 1.00 Uhr\n \n Essen und Trinken ab 20.30 h
LAST-MODIFIED:20240919T081122Z
URL:https://www.akbild.ac.at/de/universitaet/veranstaltungen/vortraege-eve
 nts/2008/akbild_event.2008-05-14.9420380303
END:VEVENT
BEGIN:VTIMEZONE
TZID:Europe/Vienna
X-LIC-LOCATION:Europe/Vienna
BEGIN:DAYLIGHT
DTSTART:20080330T030000
TZNAME:CEST
TZOFFSETFROM:+0100
TZOFFSETTO:+0200
END:DAYLIGHT
END:VTIMEZONE
END:VCALENDAR
