BEGIN:VCALENDAR
VERSION:2.0
PRODID:-//Plone.org//NONSGML plone.app.event//EN
X-WR-TIMEZONE:Europe/Vienna
BEGIN:VEVENT
SUMMARY:Vorträge | Běla Kolářová\, Janice Kerbel\, Sofie Thorsen
DTSTART;TZID=Europe/Vienna:20080519T180000
DTSTAMP:20260424T000247Z
UID:60849c4e84c508e9d7021a4c482c4294@www.akbild.ac.at
CATEGORIES:Vorträge / Veranstaltungen
CREATED:20220311T230119Z
DESCRIPTION:Vortragende | Marie Klimesova (Kunsthistorikerin\, Prag)\, Jan
 ice Kerbel (Künstlerin\, London)\, Sofie Thorsen (Künstlerin\, Wien)\n \
 n Ordinariat für Video und Videoinstallation/Prof. Dorit Margreiter\n \n 
 Akademie der Bildenden Künste\, Wien
LAST-MODIFIED:20240919T081122Z
URL:https://www.akbild.ac.at/de/universitaet/veranstaltungen/vortraege-eve
 nts/2008/akbild_event.2008-05-15.6665308126
END:VEVENT
BEGIN:VTIMEZONE
TZID:Europe/Vienna
X-LIC-LOCATION:Europe/Vienna
BEGIN:DAYLIGHT
DTSTART:20080330T030000
TZNAME:CEST
TZOFFSETFROM:+0100
TZOFFSETTO:+0200
END:DAYLIGHT
END:VTIMEZONE
END:VCALENDAR
