BEGIN:VCALENDAR
VERSION:2.0
PRODID:-//Plone.org//NONSGML plone.app.event//EN
X-WR-TIMEZONE:Europe/Vienna
BEGIN:VEVENT
SUMMARY:Utopien entdenken: Die "Sechziger" im Rahmen
DTSTART;TZID=Europe/Vienna:20080624T193000
DTSTAMP:20260423T132115Z
UID:469bd59e5609e5ceb4a859a06ca5419b@www.akbild.ac.at
CATEGORIES:Vorträge / Veranstaltungen
CREATED:20220311T230136Z
DESCRIPTION:Dick Hebdige an der Akademie der bildenden Künste Wien\n \n E
 inführung: Diedrich Diederichsen\, Institut für Kunst- und Kulturwissens
 chaften\n \n Organisiert vom Institut für künstlerisches Lehramt
LAST-MODIFIED:20240919T081122Z
URL:https://www.akbild.ac.at/de/universitaet/veranstaltungen/vortraege-eve
 nts/2008/akbild_event.2008-05-25.6543912106
END:VEVENT
BEGIN:VTIMEZONE
TZID:Europe/Vienna
X-LIC-LOCATION:Europe/Vienna
BEGIN:DAYLIGHT
DTSTART:20080330T030000
TZNAME:CEST
TZOFFSETFROM:+0100
TZOFFSETTO:+0200
END:DAYLIGHT
END:VTIMEZONE
END:VCALENDAR
