BEGIN:VCALENDAR
VERSION:2.0
PRODID:-//Plone.org//NONSGML plone.app.event//EN
X-WR-TIMEZONE:Europe/Vienna
BEGIN:VEVENT
SUMMARY:Madness on Paper and Canvas
DTSTART;TZID=Europe/Vienna:20080606T141500
DTSTAMP:20260423T084606Z
UID:10a54c6c6d0f13bd6b9dbb566de4a49f@www.akbild.ac.at
CATEGORIES:Vorträge / Veranstaltungen
CREATED:20220311T230131Z
DESCRIPTION:Sublimation and Exploitation at the Artists’ House in Guggin
 g\n \n Gastvortrag von Alexandra Schüssler\n \n Organisiert vom Ordinaria
 t für Philosophische und Historische Anthropologie der Kunst
LAST-MODIFIED:20240919T081122Z
URL:https://www.akbild.ac.at/de/universitaet/veranstaltungen/vortraege-eve
 nts/2008/akbild_event.2008-06-04.9633134578
END:VEVENT
BEGIN:VTIMEZONE
TZID:Europe/Vienna
X-LIC-LOCATION:Europe/Vienna
BEGIN:DAYLIGHT
DTSTART:20080330T030000
TZNAME:CEST
TZOFFSETFROM:+0100
TZOFFSETTO:+0200
END:DAYLIGHT
END:VTIMEZONE
END:VCALENDAR
