BEGIN:VCALENDAR
VERSION:2.0
PRODID:-//Plone.org//NONSGML plone.app.event//EN
X-WR-TIMEZONE:Europe/Vienna
BEGIN:VEVENT
SUMMARY:Termine Hearings Professur Epistemologie und Methodologie künstle
 rischer Produktion
DTSTART;VALUE=DATE:20080623
DTEND;VALUE=DATE:20080624
DTSTAMP:20260424T045849Z
UID:a65b6da6ee0a8f8fd8094cf7ff0d1271@www.akbild.ac.at
CATEGORIES:Vorträge / Veranstaltungen
CREATED:20220311T230137Z
LAST-MODIFIED:20240919T081122Z
URL:https://www.akbild.ac.at/de/universitaet/veranstaltungen/vortraege-eve
 nts/2008/akbild_event.2008-06-20.9142527126
END:VEVENT
END:VCALENDAR
