BEGIN:VCALENDAR
VERSION:2.0
PRODID:-//Plone.org//NONSGML plone.app.event//EN
X-WR-TIMEZONE:Europe/Vienna
BEGIN:VEVENT
SUMMARY:The Rakes Progress
DTSTART;TZID=Europe/Vienna:20081114T180000
DTSTAMP:20260424T120807Z
UID:c37f21b13642039038cb67c7c30b8445@www.akbild.ac.at
CATEGORIES:Vorträge / Veranstaltungen
CREATED:20220311T230239Z
DESCRIPTION:Karten: € 15\,- (SchülerInnen € 10\,-)\n \n \n „Oper zu
 m Anfassen“ ist ein Musikvermittlungsprojekt mit dem Ziel jugendlichen S
 chülern durch eigenes schöpferisches Agieren ein Verständnis und einen 
 Zugang zur Kunstform „Oper“ zu ermöglichen.\n \n Im Mittelpunkt des P
 rojektes „Oper zum Anfassen - Rake im Theater an der Wien“ steht die N
 eueinstudierung und -inszenierung der Oper „The Rake´s Progress“ von 
 Igor Strawinsky im Theater an der Wien unter der Leitung von Nikolaus Harn
 ouncourt und der Regie von Martin Kušej.
LAST-MODIFIED:20240919T081122Z
URL:https://www.akbild.ac.at/de/universitaet/veranstaltungen/vortraege-eve
 nts/2008/akbild_event.2008-09-15.6511855603
END:VEVENT
BEGIN:VTIMEZONE
TZID:Europe/Vienna
X-LIC-LOCATION:Europe/Vienna
BEGIN:STANDARD
DTSTART:20081026T020000
TZNAME:CET
TZOFFSETFROM:+0200
TZOFFSETTO:+0100
END:STANDARD
END:VTIMEZONE
END:VCALENDAR
