BEGIN:VCALENDAR
VERSION:2.0
PRODID:-//Plone.org//NONSGML plone.app.event//EN
X-WR-TIMEZONE:Europe/Vienna
BEGIN:VEVENT
SUMMARY:RFK Must Die (UK/2008)
DTSTART;TZID=Europe/Vienna:20081008T180000
DTSTAMP:20260424T185755Z
UID:e8c2c0f96de88a01d6e00e1a57ee7610@www.akbild.ac.at
CATEGORIES:Vorträge / Veranstaltungen
CREATED:20220311T230138Z
DESCRIPTION:Buch/Regie: Shane O'Sullivan\; 94min\; eng. OV\n \n Im Rahmen 
 des Dokumentarfilmprogramms\, organisiert und präsentiert von Daniel Erla
 cher\, veranstaltet vom Ordinariat für Konzeptuelle Kunst\, Univ. Prof. D
 r. Marina Grzinic.
LAST-MODIFIED:20240919T081122Z
URL:https://www.akbild.ac.at/de/universitaet/veranstaltungen/vortraege-eve
 nts/2008/akbild_event.2008-09-29.5316549014
END:VEVENT
BEGIN:VTIMEZONE
TZID:Europe/Vienna
X-LIC-LOCATION:Europe/Vienna
BEGIN:DAYLIGHT
DTSTART:20080330T030000
TZNAME:CEST
TZOFFSETFROM:+0100
TZOFFSETTO:+0200
END:DAYLIGHT
END:VTIMEZONE
END:VCALENDAR
