BEGIN:VCALENDAR
VERSION:2.0
PRODID:-//Plone.org//NONSGML plone.app.event//EN
X-WR-TIMEZONE:Europe/Vienna
BEGIN:VEVENT
SUMMARY:Städtebau | Blinder Fleck der Stadtentwicklung
DTSTART;TZID=Europe/Vienna:20081103T190000
DTSTAMP:20260425T195517Z
UID:60ad0a63a954f5b5c6f0a4b69e086f2a@www.akbild.ac.at
CATEGORIES:Vorträge / Veranstaltungen
CREATED:20220311T230154Z
DESCRIPTION:Vortrag von Renate Banik-Schweitzer im Rahmen von “We built 
 this city”\n \n Vortragsreihe am Institut für Kunst und Architektur Win
 tersemester 2008/9.
LAST-MODIFIED:20240919T081122Z
URL:https://www.akbild.ac.at/de/universitaet/veranstaltungen/vortraege-eve
 nts/2008/akbild_event.2008-10-28.6988017766
END:VEVENT
BEGIN:VTIMEZONE
TZID:Europe/Vienna
X-LIC-LOCATION:Europe/Vienna
BEGIN:STANDARD
DTSTART:20081026T020000
TZNAME:CET
TZOFFSETFROM:+0200
TZOFFSETTO:+0100
END:STANDARD
END:VTIMEZONE
END:VCALENDAR
