BEGIN:VCALENDAR
VERSION:2.0
PRODID:-//Plone.org//NONSGML plone.app.event//EN
X-WR-TIMEZONE:Europe/Vienna
BEGIN:VEVENT
SUMMARY:Kunst / Wissen. Zwischen Epistemologie und Produktionsästhetik
DTSTART;TZID=Europe/Vienna:20081120T140000
DTEND;TZID=Europe/Vienna:20081120T190000
DTSTAMP:20260421T180831Z
UID:3d8aee69aab795581a04d2f51a584fa7@www.akbild.ac.at
CATEGORIES:Vorträge / Veranstaltungen
CREATED:20220311T230207Z
DESCRIPTION:TeilnehmerInnen | Sabine Flach\, Tom Holert\, Caroline A. Jone
 s\, Stephan Schmidt-Wulffen\, Felicitas Thun-Hohenstein\n \n Konzeption | 
 Tom Holert
LAST-MODIFIED:20240919T081122Z
URL:https://www.akbild.ac.at/de/universitaet/veranstaltungen/vortraege-eve
 nts/2008/akbild_event.2008-10-29.3785275738
END:VEVENT
BEGIN:VTIMEZONE
TZID:Europe/Vienna
X-LIC-LOCATION:Europe/Vienna
BEGIN:STANDARD
DTSTART:20081026T020000
TZNAME:CET
TZOFFSETFROM:+0200
TZOFFSETTO:+0100
END:STANDARD
END:VTIMEZONE
END:VCALENDAR
