BEGIN:VCALENDAR
VERSION:2.0
PRODID:-//Plone.org//NONSGML plone.app.event//EN
X-WR-TIMEZONE:Europe/Vienna
BEGIN:VEVENT
SUMMARY:Künstlerfarben im Wandel | Neue Anforderungen an die Pigmentanaly
 tik in der modernen und zeitgenössischen Kunst
DTSTART;TZID=Europe/Vienna:20081120T160000
DTSTAMP:20260421T193903Z
UID:a9fdeacce691254f32ed07c123520e60@www.akbild.ac.at
CATEGORIES:Vorträge / Veranstaltungen
CREATED:20220311T230213Z
DESCRIPTION:Vortrag von Dr. Heike Stege\, Doerner Institut\, Bayerische St
 aatsgemäldesammlungen\, München\, organisiert vom Institut für Naturwis
 senschaften und Technologie in der Kunst
LAST-MODIFIED:20240919T081122Z
URL:https://www.akbild.ac.at/de/universitaet/veranstaltungen/vortraege-eve
 nts/2008/akbild_event.2008-11-11.6029411540
END:VEVENT
BEGIN:VTIMEZONE
TZID:Europe/Vienna
X-LIC-LOCATION:Europe/Vienna
BEGIN:STANDARD
DTSTART:20081026T020000
TZNAME:CET
TZOFFSETFROM:+0200
TZOFFSETTO:+0100
END:STANDARD
END:VTIMEZONE
END:VCALENDAR
