BEGIN:VCALENDAR
VERSION:2.0
PRODID:-//Plone.org//NONSGML plone.app.event//EN
X-WR-TIMEZONE:Europe/Vienna
BEGIN:VEVENT
SUMMARY:Aspects of model-based architectural design
DTSTART;TZID=Europe/Vienna:20081126T190000
DTSTAMP:20260425T163318Z
UID:008ebdc4ed7eb8d7aab606acace75301@www.akbild.ac.at
CATEGORIES:Vorträge / Veranstaltungen
CREATED:20220311T230214Z
DESCRIPTION:Vortrag Univ.Prof.DI Dr. Ardeshir Mahdavi | University of Tech
 nology\, Vienna im Rahmen vom ADP Studio – Titusz Tarnai\, Wolfgang Tsch
 apeller
LAST-MODIFIED:20240919T081122Z
URL:https://www.akbild.ac.at/de/universitaet/veranstaltungen/vortraege-eve
 nts/2008/akbild_event.2008-11-19.9424598279
END:VEVENT
BEGIN:VTIMEZONE
TZID:Europe/Vienna
X-LIC-LOCATION:Europe/Vienna
BEGIN:STANDARD
DTSTART:20081026T020000
TZNAME:CET
TZOFFSETFROM:+0200
TZOFFSETTO:+0100
END:STANDARD
END:VTIMEZONE
END:VCALENDAR
