BEGIN:VCALENDAR
VERSION:2.0
PRODID:-//Plone.org//NONSGML plone.app.event//EN
X-WR-TIMEZONE:Europe/Vienna
BEGIN:VEVENT
SUMMARY:Netzwerk Architekturtheorie
DTSTART;TZID=Europe/Vienna:20081212T150000
DTEND;TZID=Europe/Vienna:20081212T190000
DTSTAMP:20260423T144939Z
UID:2855ca1acab59edaaf075314e86ed057@www.akbild.ac.at
CREATED:20220311T230217Z
DESCRIPTION:Das zweite Promotionskolleg des Netzwerkes findet am Institut 
 für Kunst und Architektur an der Akademie der bildenden Künste statt. Te
 ilnehmende ProfessorInnen:  Jörg Gleiter\, Bozen\, Bart Lootsma\, Innsbru
 ck\, Wien\, Philipp Oswalt\, Kassel\, Stephan Trüby\, Karlsruhe. Karin Wi
 lhelm\, Braunschweig.
LAST-MODIFIED:20240919T081122Z
URL:https://www.akbild.ac.at/de/universitaet/veranstaltungen/vortraege-eve
 nts/2008/akbild_event.2008-11-28.4340702474/SubEvent
END:VEVENT
BEGIN:VTIMEZONE
TZID:Europe/Vienna
X-LIC-LOCATION:Europe/Vienna
BEGIN:STANDARD
DTSTART:20081026T020000
TZNAME:CET
TZOFFSETFROM:+0200
TZOFFSETTO:+0100
END:STANDARD
END:VTIMEZONE
END:VCALENDAR
