BEGIN:VCALENDAR
VERSION:2.0
PRODID:-//Plone.org//NONSGML plone.app.event//EN
X-WR-TIMEZONE:Europe/Vienna
BEGIN:VEVENT
SUMMARY:Insulare Territorien
DTSTART;TZID=Europe/Vienna:20090126T180000
DTSTAMP:20260420T203829Z
UID:8c565ec2c4d5881fb0ac35a0ce60df2f@www.akbild.ac.at
CATEGORIES:Vorträge / Veranstaltungen
CREATED:20220311T230626Z
DESCRIPTION:3 Filme - 3 Wiener Architekturschulen\n \n Eine Dokumentation 
 von Architektur-Workshops mit Kindern und\n \n Jugendlichen im Mai 2008 in
  Kooperation mit dem ZOOM Kindermuseum\, Wien.
LAST-MODIFIED:20240919T081119Z
URL:https://www.akbild.ac.at/de/universitaet/veranstaltungen/vortraege-eve
 nts/2009/akbild_event.2009-01-19.8713656666
END:VEVENT
BEGIN:VTIMEZONE
TZID:Europe/Vienna
X-LIC-LOCATION:Europe/Vienna
BEGIN:STANDARD
DTSTART:20081026T020000
TZNAME:CET
TZOFFSETFROM:+0200
TZOFFSETTO:+0100
END:STANDARD
END:VTIMEZONE
END:VCALENDAR
