BEGIN:VCALENDAR
VERSION:2.0
PRODID:-//Plone.org//NONSGML plone.app.event//EN
X-WR-TIMEZONE:Europe/Vienna
BEGIN:VEVENT
SUMMARY:Kunst und Politik bei Pierre Bourdieu
DTSTART;TZID=Europe/Vienna:20090401T190000
DTSTAMP:20260425T011454Z
UID:9116c19a3664abf01361e4be5bb4a1c9@www.akbild.ac.at
CATEGORIES:Vorträge / Veranstaltungen
CREATED:20220311T230325Z
DESCRIPTION:Soziologie\, Postkolonialität und soziale Bewegungen\n \n Buc
 hvorstellungen mit Beatrice von Bismarck\, Jens Kastner\, Therese Kaufmann
  und Ulf Wuggenig
LAST-MODIFIED:20240919T081112Z
URL:https://www.akbild.ac.at/de/universitaet/veranstaltungen/vortraege-eve
 nts/2009/akbild_event.2009-03-03.2761458280
END:VEVENT
BEGIN:VTIMEZONE
TZID:Europe/Vienna
X-LIC-LOCATION:Europe/Vienna
BEGIN:DAYLIGHT
DTSTART:20090329T030000
TZNAME:CEST
TZOFFSETFROM:+0100
TZOFFSETTO:+0200
END:DAYLIGHT
END:VTIMEZONE
END:VCALENDAR
