BEGIN:VCALENDAR
VERSION:2.0
PRODID:-//Plone.org//NONSGML plone.app.event//EN
X-WR-TIMEZONE:Europe/Vienna
BEGIN:VEVENT
SUMMARY:Empfindung am Samstag
DTSTART;VALUE=DATE:20090328
DTEND;VALUE=DATE:20090329
DTSTAMP:20260425T012953Z
UID:0181a9283f839da48312fbbdb8e5e86e@www.akbild.ac.at
CATEGORIES:Vorträge / Veranstaltungen
CREATED:20220311T230634Z
DESCRIPTION:Anlässlich der Ausstellung “Empfindung oder in der Nähe de
 r Fehler liegen die Wirkungen“\, die von Sabeth Buchmann\, Kathi Hofer u
 nd Eva Maria Stadler kuratiert wurde\, beschäftigen sich Künstler/innen 
 und Kulturtheoretiker/innen mit Empfindungen und ihren Wirkungen.
LAST-MODIFIED:20240919T081119Z
URL:https://www.akbild.ac.at/de/universitaet/veranstaltungen/vortraege-eve
 nts/2009/akbild_event.2009-03-09.7459134492
END:VEVENT
END:VCALENDAR
