BEGIN:VCALENDAR
VERSION:2.0
PRODID:-//Plone.org//NONSGML plone.app.event//EN
X-WR-TIMEZONE:Europe/Vienna
BEGIN:VEVENT
SUMMARY:Ich bin die Vielen | Die Gegenwart des Telepathos
DTSTART;VALUE=DATE:20090619
DTEND;VALUE=DATE:20090620
DTSTAMP:20260424T172059Z
UID:5d30e344c8f62721651498d0b2cf625c@www.akbild.ac.at
CATEGORIES:Vorträge / Veranstaltungen
CREATED:20220311T230513Z
DESCRIPTION:9.00 – 12.00 h und 14.00 - 16.00 h\n \n Vorlesung o.Univ.Pro
 f.Dr. Elisabeth von Samsonow\n \n Zu den Nachmittagsterminen vom 3.4.\, 8.
 5. und 19.6. wird Friederike Mayröcker aus ausgewählten Texten lesen.
LAST-MODIFIED:20240919T081116Z
URL:https://www.akbild.ac.at/de/universitaet/veranstaltungen/vortraege-eve
 nts/2009/akbild_event.2009-03-18.3846241119
END:VEVENT
END:VCALENDAR
