BEGIN:VCALENDAR
VERSION:2.0
PRODID:-//Plone.org//NONSGML plone.app.event//EN
X-WR-TIMEZONE:Europe/Vienna
BEGIN:VEVENT
SUMMARY:Kunstakademien
DTSTART;TZID=Europe/Vienna:20090414T190000
DTSTAMP:20260424T160126Z
UID:5f8235731cdc7c67dc3c47ac7daa1fcd@www.akbild.ac.at
CATEGORIES:Vorträge / Veranstaltungen
CREATED:20220311T230643Z
DESCRIPTION:Podiumsdiskussion mit Stephan Schmidt-Wulffen (Rektor der Akad
 emie der bildenden Künste\, Wien)\, Robert Höldrich (Vizerektor der Univ
 ersität für Musik und darstellende Kunst Graz)\, Darko Golija (Vizerekto
 r der sich im Aufbau befindlichen Kunstakademie Maribor) und Igor Štromaj
 er (Künstler\, Akademie\, Nova Gorica).\n \n Moderation: Peter Pakesch (I
 ntendant des Landesmuseum Joanneum)\n \n Deutsche und slowenische Simultan
 übersetzung\, Eintritt frei!
LAST-MODIFIED:20240919T081119Z
URL:https://www.akbild.ac.at/de/universitaet/veranstaltungen/vortraege-eve
 nts/2009/akbild_event.2009-04-08.3672729131
END:VEVENT
BEGIN:VTIMEZONE
TZID:Europe/Vienna
X-LIC-LOCATION:Europe/Vienna
BEGIN:DAYLIGHT
DTSTART:20090329T030000
TZNAME:CEST
TZOFFSETFROM:+0100
TZOFFSETTO:+0200
END:DAYLIGHT
END:VTIMEZONE
END:VCALENDAR
