BEGIN:VCALENDAR
VERSION:2.0
PRODID:-//Plone.org//NONSGML plone.app.event//EN
X-WR-TIMEZONE:Europe/Vienna
BEGIN:VEVENT
SUMMARY:Wir bauen eine Stadt aus Karton
DTSTART;TZID=Europe/Vienna:20090426T100000
DTEND;TZID=Europe/Vienna:20090426T130000
DTSTAMP:20260422T001849Z
UID:dbf2a92d7870a06a7080a9d4e4f84ea5@www.akbild.ac.at
CATEGORIES:Vorträge / Veranstaltungen
CREATED:20220311T230646Z
DESCRIPTION:Modellbau-Workshop für Kinder ab 6 im Rahmen des Jubiläums-W
 ochenendes „50 Jahre Wienmuseum“.\n \n Konzept und Umsetzung Renate St
 uefer\, Alexandra Schilder\, Antje Lehn. Institut für Kunst und Architekt
 ur Akademie der bildenden Künste Wien mit dem Institut für Kunst und Ges
 taltung TU Wien in Kooperation mit dem Wien Museum.
LAST-MODIFIED:20240919T081119Z
URL:https://www.akbild.ac.at/de/universitaet/veranstaltungen/vortraege-eve
 nts/2009/akbild_event.2009-04-20.1880191704
END:VEVENT
BEGIN:VTIMEZONE
TZID:Europe/Vienna
X-LIC-LOCATION:Europe/Vienna
BEGIN:DAYLIGHT
DTSTART:20090329T030000
TZNAME:CEST
TZOFFSETFROM:+0100
TZOFFSETTO:+0200
END:DAYLIGHT
END:VTIMEZONE
END:VCALENDAR
