BEGIN:VCALENDAR
VERSION:2.0
PRODID:-//Plone.org//NONSGML plone.app.event//EN
X-WR-TIMEZONE:Europe/Vienna
BEGIN:VEVENT
SUMMARY:The Symbolic Landscape and the Migratory Avant-garde
DTSTART;TZID=Europe/Vienna:20090526T180000
DTSTAMP:20260424T145920Z
UID:b2ec3b6768339dc82fce8559f6d48435@www.akbild.ac.at
CATEGORIES:Vorträge / Veranstaltungen
CREATED:20220311T230458Z
DESCRIPTION:Vortrag von Juli Carson (in englischer Sprache)\n \n Eine Vera
 nstaltung des Ordinariats für Video und Videoinstallation gemeinsam mit d
 em Institut für Kunst- und Kulturwissenschaften.
LAST-MODIFIED:20240919T081115Z
URL:https://www.akbild.ac.at/de/universitaet/veranstaltungen/vortraege-eve
 nts/2009/akbild_event.2009-05-26.9741608076
END:VEVENT
BEGIN:VTIMEZONE
TZID:Europe/Vienna
X-LIC-LOCATION:Europe/Vienna
BEGIN:DAYLIGHT
DTSTART:20090329T030000
TZNAME:CEST
TZOFFSETFROM:+0100
TZOFFSETTO:+0200
END:DAYLIGHT
END:VTIMEZONE
END:VCALENDAR
