BEGIN:VCALENDAR
VERSION:2.0
PRODID:-//Plone.org//NONSGML plone.app.event//EN
X-WR-TIMEZONE:Europe/Vienna
BEGIN:VEVENT
SUMMARY:Sean Snyder | Ungehorsam in Weißrussland
DTSTART;TZID=Europe/Vienna:20090616T200000
DTSTAMP:20260423T202100Z
UID:f00c08a754e814f6080d4258fc48faa8@www.akbild.ac.at
CATEGORIES:Vorträge / Veranstaltungen
CREATED:20220311T230511Z
DESCRIPTION:Vortrag (in Englisch) präsentiert vom Center for Art/Knowledg
 e Research (CAK)/Epistemologie und Methodologie künstlerischer Produktion
  (EMP) an der Akademie der bildenden Künste Wien.
LAST-MODIFIED:20240919T081116Z
URL:https://www.akbild.ac.at/de/universitaet/veranstaltungen/vortraege-eve
 nts/2009/akbild_event.2009-06-02.4600904015
END:VEVENT
BEGIN:VTIMEZONE
TZID:Europe/Vienna
X-LIC-LOCATION:Europe/Vienna
BEGIN:DAYLIGHT
DTSTART:20090329T030000
TZNAME:CEST
TZOFFSETFROM:+0100
TZOFFSETTO:+0200
END:DAYLIGHT
END:VTIMEZONE
END:VCALENDAR
