BEGIN:VCALENDAR
VERSION:2.0
PRODID:-//Plone.org//NONSGML plone.app.event//EN
X-WR-TIMEZONE:Europe/Vienna
BEGIN:VEVENT
SUMMARY:Buchpräsentation | Film Avantgarde Biopolitik
DTSTART;TZID=Europe/Vienna:20090625T180000
DTSTAMP:20260423T101119Z
UID:d8362f280754d0bba336f218a1a8c664@www.akbild.ac.at
CATEGORIES:Vorträge / Veranstaltungen
CREATED:20220311T230529Z
DESCRIPTION:Gemeinsame Bücherpräsentation dreier aktueller Publikationen
  zu Biopolitik\, Gender\, Film\, Kunst und Wissenschaft anlässlich des Er
 scheinens des Bandes »Film Avantgarde Biopolitik« aus der Schriftenreihe
  der Akademie der bildenden Künste Wien.
LAST-MODIFIED:20240919T081116Z
URL:https://www.akbild.ac.at/de/universitaet/veranstaltungen/vortraege-eve
 nts/2009/akbild_event.2009-06-02.9305872926
END:VEVENT
BEGIN:VTIMEZONE
TZID:Europe/Vienna
X-LIC-LOCATION:Europe/Vienna
BEGIN:DAYLIGHT
DTSTART:20090329T030000
TZNAME:CEST
TZOFFSETFROM:+0100
TZOFFSETTO:+0200
END:DAYLIGHT
END:VTIMEZONE
END:VCALENDAR
