BEGIN:VCALENDAR
VERSION:2.0
PRODID:-//Plone.org//NONSGML plone.app.event//EN
X-WR-TIMEZONE:Europe/Vienna
BEGIN:VEVENT
SUMMARY:The Revolution of Learning from…
DTSTART;TZID=Europe/Vienna:20090608T190000
DTSTAMP:20260424T135314Z
UID:015aa843f7ca5e95bb6ae1e4f0d67ffe@www.akbild.ac.at
CATEGORIES:Vorträge / Veranstaltungen
CREATED:20220311T230505Z
DESCRIPTION:Vortrag von Valéry Didelon\, Architektin\, Historikerin und A
 rchitekturkritikerin\, Paris\, im Rahmen der Vortragsreihe “We built thi
 s City” am Institut für Kunst und Architektur im Sommersemester 2009.
LAST-MODIFIED:20240919T081115Z
URL:https://www.akbild.ac.at/de/universitaet/veranstaltungen/vortraege-eve
 nts/2009/akbild_event.2009-06-03.3422666215
END:VEVENT
BEGIN:VTIMEZONE
TZID:Europe/Vienna
X-LIC-LOCATION:Europe/Vienna
BEGIN:DAYLIGHT
DTSTART:20090329T030000
TZNAME:CEST
TZOFFSETFROM:+0100
TZOFFSETTO:+0200
END:DAYLIGHT
END:VTIMEZONE
END:VCALENDAR
